BEGIN:VCALENDAR
VERSION:2.0
PRODID:spatie/icalendar-generator
DESCRIPTION:Events from Viru-Nigula valla raamatukogu
X-WR-CALDESC:Events from Viru-Nigula valla raamatukogu
REFRESH-INTERVAL;VALUE=DURATION:PT1440M
X-PUBLISHED-TTL:PT1440M
BEGIN:VTIMEZONE
TZID:Europe/Tallinn
BEGIN:DAYLIGHT
DTSTART:20240331T030000Z
TZOFFSETFROM:+0200
TZOFFSETTO:+0300
END:DAYLIGHT
BEGIN:STANDARD
DTSTART:20241027T040000Z
TZOFFSETFROM:+0300
TZOFFSETTO:+0200
END:STANDARD
END:VTIMEZONE
BEGIN:VTIMEZONE
TZID:UTC
BEGIN:STANDARD
DTSTART:20250724T183151Z
TZOFFSETFROM:+0000
TZOFFSETTO:+0000
END:STANDARD
END:VTIMEZONE
BEGIN:VEVENT
UID:18-12
DTSTAMP:20260420T183151Z
SUMMARY:Lugemiskoerte programmi infotund
LOCATION:
ORGANIZER;CN=Lauri Raus:MAILTO:lauri.raus@viru-nigula.ee
DTSTART;TZID=Europe/Tallinn:20240921T130000
DTEND;TZID=Europe/Tallinn:20240921T140000
X-ALT-DESC;FMTTYPE=TEXT/HTML:Viru-Nigula valla raamatukogus Kundas alustab 
 koostöös Eesti Abi- ja Teraapiakoerte Ühinguga 21. septembril kell 13.0
 0 lugemiskoerte programmi uut hooaega lugemiskoeratiim Helle ja Lennu. Oot
 ame huvilisi programmi ja koeratiimiga tutvuma! Infotunni ajal avatakse ko
 hapeal võimalus programmi registreeruda.
CATEGORIES:Viru-Nigula
URL;VALUE=URI:https://virunigularaamatukogu.ee/mc-events/lugemiskoerte-prog
 rammi-infotund/
METHOD:PUBLISH
END:VEVENT
END:VCALENDAR