BEGIN:VCALENDAR
VERSION:2.0
PRODID:spatie/icalendar-generator
DESCRIPTION:Events from Viru-Nigula valla raamatukogu
X-WR-CALDESC:Events from Viru-Nigula valla raamatukogu
REFRESH-INTERVAL;VALUE=DURATION:PT1440M
X-PUBLISHED-TTL:PT1440M
BEGIN:VTIMEZONE
TZID:Europe/Tallinn
BEGIN:DAYLIGHT
DTSTART:20240331T030000Z
TZOFFSETFROM:+0200
TZOFFSETTO:+0300
END:DAYLIGHT
BEGIN:STANDARD
DTSTART:20241027T040000Z
TZOFFSETFROM:+0300
TZOFFSETTO:+0200
END:STANDARD
END:VTIMEZONE
BEGIN:VTIMEZONE
TZID:UTC
BEGIN:STANDARD
DTSTART:20250724T195727Z
TZOFFSETFROM:+0000
TZOFFSETTO:+0000
END:STANDARD
END:VTIMEZONE
BEGIN:VEVENT
UID:20-14
DTSTAMP:20260420T195727Z
SUMMARY:Viru-Nigula raamatukoguring
LOCATION:
ORGANIZER;CN=Veebitoimetaja:MAILTO:raamatukogu@kunda.ee
DTSTART;TZID=Europe/Tallinn:20240909T143000
DTEND;TZID=Europe/Tallinn:20240909T163000
X-ALT-DESC;FMTTYPE=TEXT/HTML:
CATEGORIES:Viru-Nigula
URL;VALUE=URI:https://virunigularaamatukogu.ee/mc-events/viru-nigula-raamat
 ukoguring/
METHOD:PUBLISH
END:VEVENT
END:VCALENDAR